BEGIN:VCALENDAR
VERSION:2.0
PRODID:-//ISKCON Punjabi Bagh, - ECPv5.10.1//NONSGML v1.0//EN
CALSCALE:GREGORIAN
METHOD:PUBLISH
X-WR-CALNAME:ISKCON Punjabi Bagh,
X-ORIGINAL-URL:https://www.iskconpunjabibagh.com
X-WR-CALDESC:Events for ISKCON Punjabi Bagh,
BEGIN:VTIMEZONE
TZID:UTC
BEGIN:STANDARD
TZOFFSETFROM:+0000
TZOFFSETTO:+0000
TZNAME:UTC
DTSTART:20240101T000000
END:STANDARD
END:VTIMEZONE
BEGIN:VEVENT
DTSTART;VALUE=DATE:20240915
DTEND;VALUE=DATE:20240916
DTSTAMP:20260424T154321
CREATED:20240820T124859Z
LAST-MODIFIED:20240918T084857Z
UID:37074-1726358400-1726444799@www.iskconpunjabibagh.com
SUMMARY:Appearance Day of Sri Jiva Goswami 15th Sept 2024
DESCRIPTION:Shri Jiva Goswami displayed all the charming features of a mahapurusa (divine person). He had lotus eyes\, a high nose and forehead\, broad chest\, long arms\, and a radiant golden body.
URL:https://www.iskconpunjabibagh.com/event/appearance-day-of-sri-jiva-goswami-15th-sept-2024/
ATTACH;FMTTYPE=image/jpeg:https://www.iskconpunjabibagh.com/wp-content/uploads/2020/05/Sri-Jiva-Goswami.jpg
END:VEVENT
END:VCALENDAR