BEGIN:VCALENDAR
VERSION:2.0
PRODID:-//ISKCON Punjabi Bagh, - ECPv5.10.1//NONSGML v1.0//EN
CALSCALE:GREGORIAN
METHOD:PUBLISH
X-WR-CALNAME:ISKCON Punjabi Bagh,
X-ORIGINAL-URL:https://www.iskconpunjabibagh.com
X-WR-CALDESC:Events for ISKCON Punjabi Bagh,
BEGIN:VTIMEZONE
TZID:UTC
BEGIN:STANDARD
TZOFFSETFROM:+0000
TZOFFSETTO:+0000
TZNAME:UTC
DTSTART:20240101T000000
END:STANDARD
END:VTIMEZONE
BEGIN:VEVENT
DTSTART;VALUE=DATE:20240112
DTEND;VALUE=DATE:20240113
DTSTAMP:20260426T020501
CREATED:20240102T063256Z
LAST-MODIFIED:20240116T055907Z
UID:33012-1705017600-1705103999@www.iskconpunjabibagh.com
SUMMARY:Appearance Day of Sri Lochana Dasa Thakura 12th Jan 2024
DESCRIPTION:Sri Locana Dasa Thakura\, a disciple of Narahari Sarakara Thakura\, wrote many Bengali songs glorifying Lord Caitanya. His most famous poetic work is the Caitanya-mangala\, a depiction of Lord Caitanya’s life.
URL:https://www.iskconpunjabibagh.com/event/appearance-day-of-sri-lochana-dasa-thakura-12th-jan-2024/
ATTACH;FMTTYPE=image/jpeg:https://www.iskconpunjabibagh.com/wp-content/uploads/2020/12/Sri-Locana-Dasa-Thakura.jpg
END:VEVENT
END:VCALENDAR