BEGIN:VCALENDAR
VERSION:2.0
PRODID:-//ISKCON Punjabi Bagh, - ECPv5.10.1//NONSGML v1.0//EN
CALSCALE:GREGORIAN
METHOD:PUBLISH
X-WR-CALNAME:ISKCON Punjabi Bagh,
X-ORIGINAL-URL:https://www.iskconpunjabibagh.com
X-WR-CALDESC:Events for ISKCON Punjabi Bagh,
BEGIN:VTIMEZONE
TZID:UTC
BEGIN:STANDARD
TZOFFSETFROM:+0000
TZOFFSETTO:+0000
TZNAME:UTC
DTSTART:20240101T000000
END:STANDARD
END:VTIMEZONE
BEGIN:VEVENT
DTSTART;VALUE=DATE:20240423
DTEND;VALUE=DATE:20240424
DTSTAMP:20260425T225022
CREATED:20240329T123515Z
LAST-MODIFIED:20240425T123426Z
UID:34396-1713830400-1713916799@www.iskconpunjabibagh.com
SUMMARY:Appearance Day of Sri Syamananda Prabhu 23rd April 2024
DESCRIPTION:Syamananda Prabhu\, a disciple of Hrdaya Caitanya\, established the temple of Sri Radha-Syamasundara in Vrndavana.
URL:https://www.iskconpunjabibagh.com/event/appearance-day-of-sri-syamananda-prabhu-23rd-april-2024/
ATTACH;FMTTYPE=image/jpeg:https://www.iskconpunjabibagh.com/wp-content/uploads/2022/03/Syamananda-Prabhu1.jpg
END:VEVENT
END:VCALENDAR