BEGIN:VCALENDAR
VERSION:2.0
PRODID:-//ISKCON Punjabi Bagh, - ECPv5.10.1//NONSGML v1.0//EN
CALSCALE:GREGORIAN
METHOD:PUBLISH
X-WR-CALNAME:ISKCON Punjabi Bagh,
X-ORIGINAL-URL:https://www.iskconpunjabibagh.com
X-WR-CALDESC:Events for ISKCON Punjabi Bagh,
BEGIN:VTIMEZONE
TZID:UTC
BEGIN:STANDARD
TZOFFSETFROM:+0000
TZOFFSETTO:+0000
TZNAME:UTC
DTSTART:20240101T000000
END:STANDARD
END:VTIMEZONE
BEGIN:VEVENT
DTSTART;VALUE=DATE:20240214
DTEND;VALUE=DATE:20240215
DTSTAMP:20260421T115404
CREATED:20240116T064228Z
LAST-MODIFIED:20240215T121605Z
UID:33273-1707868800-1707955199@www.iskconpunjabibagh.com
SUMMARY:Appearance Day of Srila Raghunatha Dasa Goswami 14th Feb 2024
DESCRIPTION:Raghunatha Dasa Goswami\, one of the six Goswamis\, at a young age renounced his beautiful wife and opulent home to join Lord Caitanya and His sankirtana movement. For sixteen years\, he was the personal assistant of Svarupa Damodara.
URL:https://www.iskconpunjabibagh.com/event/appearance-day-of-srila-raghunatha-dasa-goswami-14th-feb-2024/
ATTACH;FMTTYPE=image/jpeg:https://www.iskconpunjabibagh.com/wp-content/uploads/2022/01/Srila-Raghunatha.jpg
END:VEVENT
END:VCALENDAR