BEGIN:VCALENDAR
VERSION:2.0
PRODID:-//ISKCON Punjabi Bagh, - ECPv5.10.1//NONSGML v1.0//EN
CALSCALE:GREGORIAN
METHOD:PUBLISH
X-WR-CALNAME:ISKCON Punjabi Bagh,
X-ORIGINAL-URL:https://www.iskconpunjabibagh.com
X-WR-CALDESC:Events for ISKCON Punjabi Bagh,
BEGIN:VTIMEZONE
TZID:UTC
BEGIN:STANDARD
TZOFFSETFROM:+0000
TZOFFSETTO:+0000
TZNAME:UTC
DTSTART:20240101T000000
END:STANDARD
END:VTIMEZONE
BEGIN:VEVENT
DTSTART;VALUE=DATE:20240214
DTEND;VALUE=DATE:20240215
DTSTAMP:20260426T002624
CREATED:20240116T063115Z
LAST-MODIFIED:20240215T121511Z
UID:33263-1707868800-1707955199@www.iskconpunjabibagh.com
SUMMARY:Appearance Day of Srimati Vishnupriya Devi 14th Feb 2024
DESCRIPTION:The Supreme Lord Visnu has three different Saktis: Sri\, Bhu\, and Nila. Sri Visnupriya is the internal potency known as Bhu-sakti. She appeared in Gaura-lila to assist Sri Caitanya Mahaprabhu with his mission of spreading the holy name of Krsna.
URL:https://www.iskconpunjabibagh.com/event/appearance-day-of-srimati-vishnupriya-devi-14th-feb-2024/
ATTACH;FMTTYPE=image/jpeg:https://www.iskconpunjabibagh.com/wp-content/uploads/2021/02/Srimati-Vishnupriya.jpg
END:VEVENT
END:VCALENDAR