BEGIN:VCALENDAR
VERSION:2.0
PRODID:-//ISKCON Punjabi Bagh, - ECPv5.10.1//NONSGML v1.0//EN
CALSCALE:GREGORIAN
METHOD:PUBLISH
X-WR-CALNAME:ISKCON Punjabi Bagh,
X-ORIGINAL-URL:https://www.iskconpunjabibagh.com
X-WR-CALDESC:Events for ISKCON Punjabi Bagh,
BEGIN:VTIMEZONE
TZID:UTC
BEGIN:STANDARD
TZOFFSETFROM:+0000
TZOFFSETTO:+0000
TZNAME:UTC
DTSTART:20230101T000000
END:STANDARD
END:VTIMEZONE
BEGIN:VEVENT
DTSTART;VALUE=DATE:20230505
DTEND;VALUE=DATE:20230506
DTSTAMP:20260422T024535
CREATED:20230505T084107Z
LAST-MODIFIED:20230508T050052Z
UID:28871-1683244800-1683331199@www.iskconpunjabibagh.com
SUMMARY:Buddha Purnima – Appearance Day of Lord Buddha 5th May 2023
DESCRIPTION:The festival of Buddha Purnima or Buddha Jayanti celebrates the birth of Gautam Buddha. Lord Buddha was born on the Full Moon day in the month of Vaisakh in 563 BC. Siddhartha Gautama or Gautam Budhha was a spiritual teacher and the founder of Buddhism.
URL:https://www.iskconpunjabibagh.com/event/buddha-purnima-appearance-day-of-lord-buddha/
ATTACH;FMTTYPE=image/jpeg:https://www.iskconpunjabibagh.com/wp-content/uploads/2023/05/buddha.jpg
END:VEVENT
END:VCALENDAR