BEGIN:VCALENDAR
VERSION:2.0
PRODID:-//ISKCON Punjabi Bagh, - ECPv5.10.1//NONSGML v1.0//EN
CALSCALE:GREGORIAN
METHOD:PUBLISH
X-WR-CALNAME:ISKCON Punjabi Bagh,
X-ORIGINAL-URL:https://www.iskconpunjabibagh.com
X-WR-CALDESC:Events for ISKCON Punjabi Bagh,
BEGIN:VTIMEZONE
TZID:UTC
BEGIN:STANDARD
TZOFFSETFROM:+0000
TZOFFSETTO:+0000
TZNAME:UTC
DTSTART:20240101T000000
END:STANDARD
END:VTIMEZONE
BEGIN:VEVENT
DTSTART;VALUE=DATE:20240616
DTEND;VALUE=DATE:20240617
DTSTAMP:20260425T211215
CREATED:20240608T075755Z
LAST-MODIFIED:20240617T104055Z
UID:35532-1718496000-1718582399@www.iskconpunjabibagh.com
SUMMARY:Disappearance Day of Sri Baladeva Vidyabhusana 16th June 2024
DESCRIPTION:Baladeva Vidyabhusana\, the author of Govinda Bhasya\, the first Gaudiya commentary on the Vedanta-sutras\, appeared in Remuna\, Orissa\, in the late 1600.
URL:https://www.iskconpunjabibagh.com/event/disappearance-day-of-sri-baladeva-vidyabhusana-16th-june-2024/
ATTACH;FMTTYPE=image/jpeg:https://www.iskconpunjabibagh.com/wp-content/uploads/2020/04/Srila-Baladeva-Vidyabhusana-Disappearance.jpg
END:VEVENT
END:VCALENDAR