BEGIN:VCALENDAR
VERSION:2.0
PRODID:-//ISKCON Punjabi Bagh, - ECPv5.10.1//NONSGML v1.0//EN
CALSCALE:GREGORIAN
METHOD:PUBLISH
X-WR-CALNAME:ISKCON Punjabi Bagh,
X-ORIGINAL-URL:https://www.iskconpunjabibagh.com
X-WR-CALDESC:Events for ISKCON Punjabi Bagh,
BEGIN:VTIMEZONE
TZID:UTC
BEGIN:STANDARD
TZOFFSETFROM:+0000
TZOFFSETTO:+0000
TZNAME:UTC
DTSTART:20240101T000000
END:STANDARD
END:VTIMEZONE
BEGIN:VEVENT
DTSTART;VALUE=DATE:20240622
DTEND;VALUE=DATE:20240623
DTSTAMP:20260425T211210
CREATED:20240617T110250Z
LAST-MODIFIED:20240702T123238Z
UID:35675-1719014400-1719100799@www.iskconpunjabibagh.com
SUMMARY:Disappearance Day of Sri Mukunda Datta 22nd June 2024
DESCRIPTION:Mukunda Datta\, the son of Vasudeva Datta\, was a classmate of Lord Caitanya’s. Mukunda Datta had a melodious voice\, and he knew the intricacies of musical meters and ragas.
URL:https://www.iskconpunjabibagh.com/event/disappearance-day-of-sri-mukunda-datta-22nd-june-2024/
ATTACH;FMTTYPE=image/jpeg:https://www.iskconpunjabibagh.com/wp-content/uploads/2021/06/Srila-Mukunda-Datta-Disappearance.jpg
END:VEVENT
END:VCALENDAR