BEGIN:VCALENDAR
VERSION:2.0
PRODID:-//ISKCON Punjabi Bagh, - ECPv5.10.1//NONSGML v1.0//EN
CALSCALE:GREGORIAN
METHOD:PUBLISH
X-WR-CALNAME:ISKCON Punjabi Bagh,
X-ORIGINAL-URL:https://www.iskconpunjabibagh.com
X-WR-CALDESC:Events for ISKCON Punjabi Bagh,
BEGIN:VTIMEZONE
TZID:UTC
BEGIN:STANDARD
TZOFFSETFROM:+0000
TZOFFSETTO:+0000
TZNAME:UTC
DTSTART:20240101T000000
END:STANDARD
END:VTIMEZONE
BEGIN:VEVENT
DTSTART;VALUE=DATE:20240131
DTEND;VALUE=DATE:20240201
DTSTAMP:20260426T020500
CREATED:20240102T072556Z
LAST-MODIFIED:20240205T100342Z
UID:33030-1706659200-1706745599@www.iskconpunjabibagh.com
SUMMARY:Disappearance Day of Sri Ramchandra Kaviraja 31st Jan 2024
DESCRIPTION:Ramacandra Kaviraja\, the son of Sri Ciranjiva Sena appeared in Sri Khanda. “Ramacandara Kaviraja was especially earnest\, beautiful\, intelligent\, energetic\, and enthusiastic\,” said one biographer.
URL:https://www.iskconpunjabibagh.com/event/disappearance-day-of-sri-ramchandra-kaviraja-31st-jan-2024/
ATTACH;FMTTYPE=image/jpeg:https://www.iskconpunjabibagh.com/wp-content/uploads/2021/01/Sri-Ramchandra-Kaviraja.jpg
END:VEVENT
END:VCALENDAR