BEGIN:VCALENDAR
VERSION:2.0
PRODID:-//ISKCON Punjabi Bagh, - ECPv5.10.1//NONSGML v1.0//EN
CALSCALE:GREGORIAN
METHOD:PUBLISH
X-WR-CALNAME:ISKCON Punjabi Bagh,
X-ORIGINAL-URL:https://www.iskconpunjabibagh.com
X-WR-CALDESC:Events for ISKCON Punjabi Bagh,
BEGIN:VTIMEZONE
TZID:UTC
BEGIN:STANDARD
TZOFFSETFROM:+0000
TZOFFSETTO:+0000
TZNAME:UTC
DTSTART:20240101T000000
END:STANDARD
END:VTIMEZONE
BEGIN:VEVENT
DTSTART;VALUE=DATE:20240712
DTEND;VALUE=DATE:20240713
DTSTAMP:20260421T084419
CREATED:20240702T132358Z
LAST-MODIFIED:20240718T132300Z
UID:36060-1720742400-1720828799@www.iskconpunjabibagh.com
SUMMARY:Disappearance Day of Sri Vakresvara Pandita 12th July 2024
DESCRIPTION:Vakresvara Pandita is mentioned in Sri Caitanya-caritamrta for his ecstatic dancing. Once\, in the house of Srivasa Thakura\, he danced in constant ecstasy for seventy-two hours.
URL:https://www.iskconpunjabibagh.com/event/disappearance-day-of-sri-vakresvara-pandita-12th-july-2024/
ATTACH;FMTTYPE=image/jpeg:https://www.iskconpunjabibagh.com/wp-content/uploads/2020/04/Sri-Vakresvara-Pandita.jpg
END:VEVENT
END:VCALENDAR