BEGIN:VCALENDAR
VERSION:2.0
PRODID:-//ISKCON Punjabi Bagh, - ECPv5.10.1//NONSGML v1.0//EN
CALSCALE:GREGORIAN
METHOD:PUBLISH
X-WR-CALNAME:ISKCON Punjabi Bagh,
X-ORIGINAL-URL:https://www.iskconpunjabibagh.com
X-WR-CALDESC:Events for ISKCON Punjabi Bagh,
BEGIN:VTIMEZONE
TZID:UTC
BEGIN:STANDARD
TZOFFSETFROM:+0000
TZOFFSETTO:+0000
TZNAME:UTC
DTSTART:20230101T000000
END:STANDARD
END:VTIMEZONE
BEGIN:VEVENT
DTSTART;VALUE=DATE:20231218
DTEND;VALUE=DATE:20231219
DTSTAMP:20260425T184055
CREATED:20231026T101212Z
LAST-MODIFIED:20240102T053330Z
UID:24807-1702857600-1702943999@www.iskconpunjabibagh.com
SUMMARY:Odana Sasthi 18th Dec 2023
DESCRIPTION:At the beginning of winter\, there is a ceremony known as the Odana Sasthi. During the Odana-sasthi festival the servants of Lord Jagannatha would dress Lord Jagannatha and Balarama with starched cloth. \nThis ceremony indicates that from that day forward\, a winter covering should be given to Lord Jagannatha.That covering is directly purchased from a weaver. According to the archana-marga\, a cloth should first be washed to remove all the starch\, and then it can be used to cover the Lord. On this occasion by the desire of Lord Jagannatha\, His servants dress Him in new\, starched clothes.
URL:https://www.iskconpunjabibagh.com/event/odana-sasthi-18th-dec-2023/
ATTACH;FMTTYPE=image/jpeg:https://www.iskconpunjabibagh.com/wp-content/uploads/2022/11/Ordna.jpg
END:VEVENT
END:VCALENDAR