BEGIN:VCALENDAR
VERSION:2.0
PRODID:-//ISKCON Punjabi Bagh, - ECPv5.10.1//NONSGML v1.0//EN
CALSCALE:GREGORIAN
METHOD:PUBLISH
X-WR-CALNAME:ISKCON Punjabi Bagh,
X-ORIGINAL-URL:https://www.iskconpunjabibagh.com
X-WR-CALDESC:Events for ISKCON Punjabi Bagh,
BEGIN:VTIMEZONE
TZID:UTC
BEGIN:STANDARD
TZOFFSETFROM:+0000
TZOFFSETTO:+0000
TZNAME:UTC
DTSTART:20240101T000000
END:STANDARD
END:VTIMEZONE
BEGIN:VEVENT
DTSTART;VALUE=DATE:20240715
DTEND;VALUE=DATE:20240716
DTSTAMP:20260423T090719
CREATED:20240702T132532Z
LAST-MODIFIED:20240718T132457Z
UID:36062-1721001600-1721087999@www.iskconpunjabibagh.com
SUMMARY:Return of Ratha Yatra 15th July 2024
DESCRIPTION:The chariot festival in which Lord Krsna in the form of Lord Jagannatha rides with Lord Balarama and Subhadra Devi in Jagannatha Puri\, India.
URL:https://www.iskconpunjabibagh.com/event/return-of-ratha-yatra-15th-july-2024/
ATTACH;FMTTYPE=image/jpeg:https://www.iskconpunjabibagh.com/wp-content/uploads/2020/04/Ratha-Yatra-Starts.jpg
END:VEVENT
END:VCALENDAR