BEGIN:VCALENDAR
VERSION:2.0
PRODID:-//ISKCON Punjabi Bagh, - ECPv5.10.1//NONSGML v1.0//EN
CALSCALE:GREGORIAN
METHOD:PUBLISH
X-WR-CALNAME:ISKCON Punjabi Bagh,
X-ORIGINAL-URL:https://www.iskconpunjabibagh.com
X-WR-CALDESC:Events for ISKCON Punjabi Bagh,
BEGIN:VTIMEZONE
TZID:UTC
BEGIN:STANDARD
TZOFFSETFROM:+0000
TZOFFSETTO:+0000
TZNAME:UTC
DTSTART:20250101T000000
END:STANDARD
END:VTIMEZONE
BEGIN:VEVENT
DTSTART;VALUE=DATE:20250605
DTEND;VALUE=DATE:20250606
DTSTAMP:20260422T144812
CREATED:20250424T100209Z
LAST-MODIFIED:20250611T070910Z
UID:42446-1749081600-1749167999@www.iskconpunjabibagh.com
SUMMARY:Srila Baladeva Vidyabhushana Disappearance Day 5th June 2025
DESCRIPTION:Baladeva Vidyabhusana\, the author of Govinda Bhasya\, the first Gaudiya commentary on the Vedanta-sutras\, appeared in Remuna\, Orissa\, in the late 1600.
URL:https://www.iskconpunjabibagh.com/event/srila-baladeva-vidyabhushana-disappearance-day-5th-june-2025/
ATTACH;FMTTYPE=image/jpeg:https://www.iskconpunjabibagh.com/wp-content/uploads/2020/04/Srila-Baladeva-Vidyabhusana-Disappearance.jpg
END:VEVENT
END:VCALENDAR