BEGIN:VCALENDAR
VERSION:2.0
PRODID:-//ISKCON Punjabi Bagh, - ECPv5.10.1//NONSGML v1.0//EN
CALSCALE:GREGORIAN
METHOD:PUBLISH
X-WR-CALNAME:ISKCON Punjabi Bagh,
X-ORIGINAL-URL:https://www.iskconpunjabibagh.com
X-WR-CALDESC:Events for ISKCON Punjabi Bagh,
BEGIN:VTIMEZONE
TZID:UTC
BEGIN:STANDARD
TZOFFSETFROM:+0000
TZOFFSETTO:+0000
TZNAME:UTC
DTSTART:20260101T000000
END:STANDARD
END:VTIMEZONE
BEGIN:VEVENT
DTSTART;VALUE=DATE:20260108
DTEND;VALUE=DATE:20260109
DTSTAMP:20260419T234614
CREATED:20251222T082820Z
LAST-MODIFIED:20260110T064531Z
UID:47412-1767830400-1767916799@www.iskconpunjabibagh.com
SUMMARY:Srila Jayadeva Goswami Disappearance Day 8th Jan 2026
DESCRIPTION:Jayadeva Goswami is the author of the Gita govinda\, a poem about the pastimes of Sri Sri Radha Krishna. Lord Caitanya relished hearing the Gita govinda sung by His close associates. To this day the poem is recited daily in the temple of Lord Jagannatha in Jagannatha Puri\, Orissa.
URL:https://www.iskconpunjabibagh.com/event/srila-jayadeva-goswami-disappearance-day-8th-jan-2026/
ATTACH;FMTTYPE=image/jpeg:https://www.iskconpunjabibagh.com/wp-content/uploads/2021/01/Jaydev-Goswami.jpg
END:VEVENT
END:VCALENDAR