BEGIN:VCALENDAR
VERSION:2.0
PRODID:-//ISKCON Punjabi Bagh, - ECPv5.10.1//NONSGML v1.0//EN
CALSCALE:GREGORIAN
METHOD:PUBLISH
X-WR-CALNAME:ISKCON Punjabi Bagh,
X-ORIGINAL-URL:https://www.iskconpunjabibagh.com
X-WR-CALDESC:Events for ISKCON Punjabi Bagh,
BEGIN:VTIMEZONE
TZID:UTC
BEGIN:STANDARD
TZOFFSETFROM:+0000
TZOFFSETTO:+0000
TZNAME:UTC
DTSTART:20240101T000000
END:STANDARD
END:VTIMEZONE
BEGIN:VEVENT
DTSTART;VALUE=DATE:20240924
DTEND;VALUE=DATE:20240925
DTSTAMP:20260421T133908
CREATED:20240905T133621Z
LAST-MODIFIED:20241018T061912Z
UID:37536-1727136000-1727222399@www.iskconpunjabibagh.com
SUMMARY:Srila Prabhupada’s arrival in the USA 24th Sept 2024
DESCRIPTION:Srila Prabhupada arrived in Boston on September 17\, 1965.
URL:https://www.iskconpunjabibagh.com/event/srila-prabhupadas-arrival-in-the-usa-24th-sept-2024/
ATTACH;FMTTYPE=image/jpeg:https://www.iskconpunjabibagh.com/wp-content/uploads/2020/05/Srila-Prabhupada’s-Departure-for-the-USA-4th-August-2020.jpg
END:VEVENT
END:VCALENDAR