BEGIN:VCALENDAR
VERSION:2.0
PRODID:-//ISKCON Punjabi Bagh, - ECPv5.10.1//NONSGML v1.0//EN
CALSCALE:GREGORIAN
METHOD:PUBLISH
X-WR-CALNAME:ISKCON Punjabi Bagh,
X-ORIGINAL-URL:https://www.iskconpunjabibagh.com
X-WR-CALDESC:Events for ISKCON Punjabi Bagh,
BEGIN:VTIMEZONE
TZID:UTC
BEGIN:STANDARD
TZOFFSETFROM:+0000
TZOFFSETTO:+0000
TZNAME:UTC
DTSTART:20260101T000000
END:STANDARD
END:VTIMEZONE
BEGIN:VEVENT
DTSTART;VALUE=DATE:20260123
DTEND;VALUE=DATE:20260124
DTSTAMP:20260419T234522
CREATED:20251229T122731Z
LAST-MODIFIED:20260128T065620Z
UID:47531-1769126400-1769212799@www.iskconpunjabibagh.com
SUMMARY:Srimati Visnupriya Devi Appearance Day 23rd Jan 2026
DESCRIPTION:The Supreme Lord Visnu has three different Saktis: Sri\, Bhu\, and Nila. Sri Visnupriya is the internal potency known as Bhu-sakti. She appeared in Gaura-lila to assist Sri Caitanya Mahaprabhu with his mission of spreading the holy name of Krsna.
URL:https://www.iskconpunjabibagh.com/event/srimati-visnupriya-devi-appearance-day-23rd-jan-2026/
ATTACH;FMTTYPE=image/jpeg:https://www.iskconpunjabibagh.com/wp-content/uploads/2021/02/Srimati-Vishnupriya.jpg
END:VEVENT
END:VCALENDAR