BEGIN:VCALENDAR
VERSION:2.0
PRODID:-//ISKCON Punjabi Bagh, - ECPv5.10.1//NONSGML v1.0//EN
CALSCALE:GREGORIAN
METHOD:PUBLISH
X-WR-CALNAME:ISKCON Punjabi Bagh,
X-ORIGINAL-URL:https://www.iskconpunjabibagh.com
X-WR-CALDESC:Events for ISKCON Punjabi Bagh,
BEGIN:VTIMEZONE
TZID:UTC
BEGIN:STANDARD
TZOFFSETFROM:+0000
TZOFFSETTO:+0000
TZNAME:UTC
DTSTART:20230101T000000
END:STANDARD
END:VTIMEZONE
BEGIN:VEVENT
DTSTART;VALUE=DATE:20230112
DTEND;VALUE=DATE:20230113
DTSTAMP:20260420T144904
CREATED:20221226T085743Z
LAST-MODIFIED:20230113T115113Z
UID:25884-1673481600-1673567999@www.iskconpunjabibagh.com
SUMMARY:Appearance Day of Srila Gopala Bhatta Goswami 12th Jan 2023
DESCRIPTION:Shri Gopala Bhatta Goswami (the son of a Vyenkata Bhatta\, a Shri Vaishnava brahmana) appeared in Shri Rangam\, South India. Lord Chaitanya once stayed four months in his home\, and converted the family to Gaudiya Vaishnavism.
URL:https://www.iskconpunjabibagh.com/event/appearance-day-of-srila-gopala-bhatta-goswami-12th-jan-2023/
ATTACH;FMTTYPE=image/jpeg:https://www.iskconpunjabibagh.com/wp-content/uploads/2020/05/Srila-Gopala-Bhatta-Goswami.jpg
END:VEVENT
BEGIN:VEVENT
DTSTART;VALUE=DATE:20230112
DTEND;VALUE=DATE:20230113
DTSTAMP:20260420T144904
CREATED:20221226T085946Z
LAST-MODIFIED:20230113T115100Z
UID:25886-1673481600-1673567999@www.iskconpunjabibagh.com
SUMMARY:Disappearance Day of Sri Ramchandra Kaviraja 12th Jan 2023
DESCRIPTION:Ramacandra Kaviraja\, the son of Sri Ciranjiva Sena appeared in Sri Khanda. “Ramacandara Kaviraja was especially earnest\, beautiful\, intelligent\, energetic\, and enthusiastic\,” said one biographer.
URL:https://www.iskconpunjabibagh.com/event/disappearance-day-of-sri-ramchandra-kaviraja-12th-jan-2023/
ATTACH;FMTTYPE=image/jpeg:https://www.iskconpunjabibagh.com/wp-content/uploads/2021/01/Sri-Ramchandra-Kaviraja.jpg
END:VEVENT
END:VCALENDAR