BEGIN:VCALENDAR
VERSION:2.0
PRODID:-//ISKCON Punjabi Bagh, - ECPv5.10.1//NONSGML v1.0//EN
CALSCALE:GREGORIAN
METHOD:PUBLISH
X-WR-CALNAME:ISKCON Punjabi Bagh,
X-ORIGINAL-URL:https://www.iskconpunjabibagh.com
X-WR-CALDESC:Events for ISKCON Punjabi Bagh,
BEGIN:VTIMEZONE
TZID:UTC
BEGIN:STANDARD
TZOFFSETFROM:+0000
TZOFFSETTO:+0000
TZNAME:UTC
DTSTART:20240101T000000
END:STANDARD
END:VTIMEZONE
BEGIN:VEVENT
DTSTART;VALUE=DATE:20240219
DTEND;VALUE=DATE:20240220
DTSTAMP:20260426T002047
CREATED:20240116T065644Z
LAST-MODIFIED:20240220T065614Z
UID:33281-1708300800-1708387199@www.iskconpunjabibagh.com
SUMMARY:Disappearance Day of Sri Ramanujacharya 19th Feb 2024
DESCRIPTION:Ramanujacharya was the principal acarya in the Sri sampradaya\, one of the four main lines of Vaisnava teachers and disciples. His Vedanta-sutra commentary Sri-bhasya establishes the doctrine known as Visistadvaita\, “qualified nondualism.”
URL:https://www.iskconpunjabibagh.com/event/disappearance-day-of-sri-ramanujacharya-19th-feb-2024/
ATTACH;FMTTYPE=image/jpeg:https://www.iskconpunjabibagh.com/wp-content/uploads/2021/02/Sri-Ramanujacharya.jpg
END:VEVENT
END:VCALENDAR