BEGIN:VCALENDAR
VERSION:2.0
PRODID:-//ISKCON Punjabi Bagh, - ECPv5.10.1//NONSGML v1.0//EN
CALSCALE:GREGORIAN
METHOD:PUBLISH
X-WR-CALNAME:ISKCON Punjabi Bagh,
X-ORIGINAL-URL:https://www.iskconpunjabibagh.com
X-WR-CALDESC:Events for ISKCON Punjabi Bagh,
BEGIN:VTIMEZONE
TZID:UTC
BEGIN:STANDARD
TZOFFSETFROM:+0000
TZOFFSETTO:+0000
TZNAME:UTC
DTSTART:20240101T000000
END:STANDARD
END:VTIMEZONE
BEGIN:VEVENT
DTSTART;VALUE=DATE:20240224
DTEND;VALUE=DATE:20240225
DTSTAMP:20260426T002048
CREATED:20240116T082909Z
LAST-MODIFIED:20240226T142149Z
UID:33290-1708732800-1708819199@www.iskconpunjabibagh.com
SUMMARY:Sri Krishna Madhura Utsava 24th Feb 2024
DESCRIPTION:There are various festivities where Lord Krishna’s rasa lila is celebrated – this festival being just one of them. The purnima or full moon of Damodara month is the second full moon of the autumn season\, and rasa lila is again celebrated. \nThis second rasa yatra is celebrated more in Bengal\, whereas the first one is celebrated more in Vrindavana. On this day one should perform full worship of Radha and Krishna with many flowers\, and place them in a rasa mandapa surrounded by the gopis. \nSri Krishna Vasant Rasa is similar excepting that it is in the Spring (Vasant)\, at this time everyone dresses in yellow. On this full moon night the devotees usually leave out pots of sweet rice payasam for the Lord to enjoy during His rasas.
URL:https://www.iskconpunjabibagh.com/event/sri-krishna-madhura-utsava-24th-feb-2024/
ATTACH;FMTTYPE=image/jpeg:https://www.iskconpunjabibagh.com/wp-content/uploads/2021/02/Madhur.jpg
END:VEVENT
BEGIN:VEVENT
DTSTART;VALUE=DATE:20240224
DTEND;VALUE=DATE:20240225
DTSTAMP:20260426T002048
CREATED:20240206T052244Z
LAST-MODIFIED:20240226T142156Z
UID:33553-1708732800-1708819199@www.iskconpunjabibagh.com
SUMMARY:Appearance Day of Srila Narottama Dasa Thakura 24 Feb 2024
DESCRIPTION:Narottama Dasa Thakura was a leading acarya in the Gaudiya Vaisnava line. He was the only disciple of Srila Lokanatha Gosvami. Srila Narottama Dasa Thakura helped bring the books of the Gosvamis from Vrndavana to Bengal and Orissa.
URL:https://www.iskconpunjabibagh.com/event/appearance-day-of-srila-narottama-dasa-thakura-24-feb-2024/
ATTACH;FMTTYPE=image/jpeg:https://www.iskconpunjabibagh.com/wp-content/uploads/2021/02/Srila-Narottama-Dasa.jpg
END:VEVENT
END:VCALENDAR