BEGIN:VCALENDAR
VERSION:2.0
PRODID:-//ISKCON Punjabi Bagh, - ECPv5.10.1//NONSGML v1.0//EN
CALSCALE:GREGORIAN
METHOD:PUBLISH
X-WR-CALNAME:ISKCON Punjabi Bagh,
X-ORIGINAL-URL:https://www.iskconpunjabibagh.com
X-WR-CALDESC:Events for ISKCON Punjabi Bagh,
BEGIN:VTIMEZONE
TZID:UTC
BEGIN:STANDARD
TZOFFSETFROM:+0000
TZOFFSETTO:+0000
TZNAME:UTC
DTSTART:20240101T000000
END:STANDARD
END:VTIMEZONE
BEGIN:VEVENT
DTSTART;VALUE=DATE:20240321
DTEND;VALUE=DATE:20240322
DTSTAMP:20260425T225401
CREATED:20240227T093711Z
LAST-MODIFIED:20240326T054516Z
UID:33848-1710979200-1711065599@www.iskconpunjabibagh.com
SUMMARY:Disappearance of Sri Madhavendra Puri 21st Mar 2024
DESCRIPTION:Madhavendra Puri was the spiritual master of the spiritual master of Lord Caitanya Mahaprabhu. Srila Madhavendra Puri established the worship of the Gopala Deity.
URL:https://www.iskconpunjabibagh.com/event/disappearance-of-sri-madhavendra-puri-21st-mar-2024/
ATTACH;FMTTYPE=image/jpeg:https://www.iskconpunjabibagh.com/wp-content/uploads/2021/03/Sri-Madhavendra-Puri.jpg
END:VEVENT
END:VCALENDAR