BEGIN:VCALENDAR
VERSION:2.0
PRODID:-//ISKCON Punjabi Bagh, - ECPv5.10.1//NONSGML v1.0//EN
CALSCALE:GREGORIAN
METHOD:PUBLISH
X-WR-CALNAME:ISKCON Punjabi Bagh,
X-ORIGINAL-URL:https://www.iskconpunjabibagh.com
X-WR-CALDESC:Events for ISKCON Punjabi Bagh,
BEGIN:VTIMEZONE
TZID:UTC
BEGIN:STANDARD
TZOFFSETFROM:+0000
TZOFFSETTO:+0000
TZNAME:UTC
DTSTART:20240101T000000
END:STANDARD
END:VTIMEZONE
BEGIN:VEVENT
DTSTART;VALUE=DATE:20240423
DTEND;VALUE=DATE:20240424
DTSTAMP:20260425T212347
CREATED:20240329T120720Z
LAST-MODIFIED:20240425T123407Z
UID:34390-1713830400-1713916799@www.iskconpunjabibagh.com
SUMMARY:Sri Balarama Rasayatra 23rd April 2024
DESCRIPTION:Lord Balarama’s springtime rasa dance with His cowherd girlfriends. Krsna performs rasa lila of two varieties\, one in the autumn season and one in the spring season\, on vaisakha purnima. \nBalarama also performs rasa dance at this time. In order to keep the gopis in Vrndavana satisfied\, Lord Balarama stayed there continually for two months\, namely the months of Caitra and Vaisakha. For those two months he kept himself among the gopis and he passed every night with them in the forest of Vrndavana in order to satisfy their desire for conjugal love. Thus Balarama also enjoyed the rasa dance with the gopis during those two months.
URL:https://www.iskconpunjabibagh.com/event/sri-balarama-rasayatra-23rd-april-2024/
ATTACH;FMTTYPE=image/jpeg:https://www.iskconpunjabibagh.com/wp-content/uploads/2021/03/balarama_rasayatra.jpg
END:VEVENT
BEGIN:VEVENT
DTSTART;VALUE=DATE:20240423
DTEND;VALUE=DATE:20240424
DTSTAMP:20260425T212347
CREATED:20240329T123213Z
LAST-MODIFIED:20240425T123412Z
UID:34392-1713830400-1713916799@www.iskconpunjabibagh.com
SUMMARY:Sri Krishna Vasanta Rasa 23rd April 2024
DESCRIPTION:Lord Krishna’s springtime rasa dance. The purnima or full moon of Damodara month is the second full moon of the autumn season\, and rasa lila is again celebrated.  \nThis second rasa yatra is celebrated more in Bengal\, whereas the first one is celebrated more in Vrndavana. On this day one should perform full worship of Radha and Krsna with many flowers\, and place them in a rasa mandapa surrounded by the gopis. Sri Krishna Vasant Rasa is similar excepting that it is in the Spring (Vasant)\, at this time everyone dresses in yellow. On this full moon night the devotees usually leave out pots of sweet rice payasam for the Lord to enjoy during His rasas.
URL:https://www.iskconpunjabibagh.com/event/sri-krishna-vasanta-rasa-23rd-april-2024/
ATTACH;FMTTYPE=image/jpeg:https://www.iskconpunjabibagh.com/wp-content/uploads/2021/03/vasanta-Rasa.jpg
END:VEVENT
BEGIN:VEVENT
DTSTART;VALUE=DATE:20240423
DTEND;VALUE=DATE:20240424
DTSTAMP:20260425T212347
CREATED:20240329T123352Z
LAST-MODIFIED:20240425T123421Z
UID:34394-1713830400-1713916799@www.iskconpunjabibagh.com
SUMMARY:Appearance Day of Sri Vamsivadananda Thakura 23rd April 2024
DESCRIPTION:Sri Vamsivadananda Thakura Appearance Day. Vamsivadananda Thakura wrote many sweet poems expressing his devotion to Krsna.
URL:https://www.iskconpunjabibagh.com/event/appearance-day-of-sri-vamsivadananda-thakura-23rd-april-2024/
ATTACH;FMTTYPE=image/jpeg:https://www.iskconpunjabibagh.com/wp-content/uploads/2021/03/Sri-Vamsivadananda-Thakura.jpg
END:VEVENT
BEGIN:VEVENT
DTSTART;VALUE=DATE:20240423
DTEND;VALUE=DATE:20240424
DTSTAMP:20260425T212347
CREATED:20240329T123515Z
LAST-MODIFIED:20240425T123426Z
UID:34396-1713830400-1713916799@www.iskconpunjabibagh.com
SUMMARY:Appearance Day of Sri Syamananda Prabhu 23rd April 2024
DESCRIPTION:Syamananda Prabhu\, a disciple of Hrdaya Caitanya\, established the temple of Sri Radha-Syamasundara in Vrndavana.
URL:https://www.iskconpunjabibagh.com/event/appearance-day-of-sri-syamananda-prabhu-23rd-april-2024/
ATTACH;FMTTYPE=image/jpeg:https://www.iskconpunjabibagh.com/wp-content/uploads/2022/03/Syamananda-Prabhu1.jpg
END:VEVENT
END:VCALENDAR