BEGIN:VCALENDAR
VERSION:2.0
PRODID:-//ISKCON Punjabi Bagh, - ECPv5.10.1//NONSGML v1.0//EN
CALSCALE:GREGORIAN
METHOD:PUBLISH
X-WR-CALNAME:ISKCON Punjabi Bagh,
X-ORIGINAL-URL:https://www.iskconpunjabibagh.com
X-WR-CALDESC:Events for ISKCON Punjabi Bagh,
BEGIN:VTIMEZONE
TZID:UTC
BEGIN:STANDARD
TZOFFSETFROM:+0000
TZOFFSETTO:+0000
TZNAME:UTC
DTSTART:20240101T000000
END:STANDARD
END:VTIMEZONE
BEGIN:VEVENT
DTSTART;VALUE=DATE:20240514
DTEND;VALUE=DATE:20240515
DTSTAMP:20260425T195847
CREATED:20240404T071750Z
LAST-MODIFIED:20240517T075947Z
UID:34493-1715644800-1715731199@www.iskconpunjabibagh.com
SUMMARY:End of Jala Dana 14th May 2024
DESCRIPTION:End of Tulasi Jala Dana During the hot season in India\, a pot of dripping water is placed over Tulasi and Salagrama to keep them cool.
URL:https://www.iskconpunjabibagh.com/event/end-of-jala-dana-14th-may-2024/
ATTACH;FMTTYPE=image/jpeg:https://www.iskconpunjabibagh.com/wp-content/uploads/2021/03/Tulsi.jpg
END:VEVENT
BEGIN:VEVENT
DTSTART;VALUE=DATE:20240514
DTEND;VALUE=DATE:20240515
DTSTAMP:20260425T195847
CREATED:20240404T072003Z
LAST-MODIFIED:20240517T075953Z
UID:34496-1715644800-1715731199@www.iskconpunjabibagh.com
SUMMARY:Jahnu Saptami 14th May 2024
DESCRIPTION:The day when the sage Jahnu released the River Ganges after swallowing her. On this day\, if possible\, one should worship the Ganges and bathe in her waters. \nFrom Bhaktivinoda Thakura’s Sri Navadvipa Mahatmya\nChapter 13: Description of Vidyanagara and Jahnudvipa As \nNityananda spoke\, they went to Jannagara where they saw the enchanting hermitage of Jahnu Muni. Nityananda Prahhu explained\, “This enchanting place named Jahnudvipa is known as Bhadravana. At this place\, Jahnu Muni underwent penances and received darsana of the golden form of Gauranga. “Jahnu Muni was sitting here chanting his gayatri mantra\, when his acamana cup fell into the Bhagirathi (Ganges) and was swept away by the currents. He opened his mouth and drank all the water in one gulp. King Bhagiratha thought\, ‘Where has the Ganges gone?’ He concluded that Jahnu Muni had drunk theGanges. The king was overwhelmed with anxiety and worshipped the muni for several days. The muni then released the Ganges from his body. Because of this incident the Ganges is known as Jahnavi\, the daughter of Jahnu\, throughout the world.”
URL:https://www.iskconpunjabibagh.com/event/jahnu-saptami-14th-may-2024/
ATTACH;FMTTYPE=image/jpeg:https://www.iskconpunjabibagh.com/wp-content/uploads/2022/04/Jahnu-Saptami.jpg
END:VEVENT
END:VCALENDAR