BEGIN:VCALENDAR
VERSION:2.0
PRODID:-//ISKCON Punjabi Bagh, - ECPv5.10.1//NONSGML v1.0//EN
CALSCALE:GREGORIAN
METHOD:PUBLISH
X-WR-CALNAME:ISKCON Punjabi Bagh,
X-ORIGINAL-URL:https://www.iskconpunjabibagh.com
X-WR-CALDESC:Events for ISKCON Punjabi Bagh,
BEGIN:VTIMEZONE
TZID:UTC
BEGIN:STANDARD
TZOFFSETFROM:+0000
TZOFFSETTO:+0000
TZNAME:UTC
DTSTART:20240101T000000
END:STANDARD
END:VTIMEZONE
BEGIN:VEVENT
DTSTART;VALUE=DATE:20240519
DTEND;VALUE=DATE:20240520
DTSTAMP:20260425T195900
CREATED:20240404T073054Z
LAST-MODIFIED:20240608T075308Z
UID:34504-1716076800-1716163199@www.iskconpunjabibagh.com
SUMMARY:Mohini Ekadasi 19th May 2024
DESCRIPTION:Jahnava Mata was the wife of Lord Nityananda Prabhu. Especially after the disappearance of Lord Caitanya and Lord Nityananda\, she became a leading figure in the sankirtana movement.
URL:https://www.iskconpunjabibagh.com/event/mohini-ekadasi-19th-may-2024/
ATTACH;FMTTYPE=image/jpeg:https://www.iskconpunjabibagh.com/wp-content/uploads/2020/05/Ekadashi.jpg
END:VEVENT
END:VCALENDAR