BEGIN:VCALENDAR
VERSION:2.0
PRODID:-//ISKCON Punjabi Bagh, - ECPv5.10.1//NONSGML v1.0//EN
CALSCALE:GREGORIAN
METHOD:PUBLISH
X-WR-CALNAME:ISKCON Punjabi Bagh,
X-ORIGINAL-URL:https://www.iskconpunjabibagh.com
X-WR-CALDESC:Events for ISKCON Punjabi Bagh,
BEGIN:VTIMEZONE
TZID:UTC
BEGIN:STANDARD
TZOFFSETFROM:+0000
TZOFFSETTO:+0000
TZNAME:UTC
DTSTART:20240101T000000
END:STANDARD
END:VTIMEZONE
BEGIN:VEVENT
DTSTART;VALUE=DATE:20240523
DTEND;VALUE=DATE:20240524
DTSTAMP:20260425T165243
CREATED:20240418T120520Z
LAST-MODIFIED:20240608T075332Z
UID:34795-1716422400-1716508799@www.iskconpunjabibagh.com
SUMMARY:Krishna Phula Dola\, Salila Vihara 23rd May 2024
DESCRIPTION:A summer boat festival for the Deities of Sri Sri Radha Krishna. \nIn the Krishna Balaram mandir in Sri Vrindavana the devotees fill the large marble court-yard with water\, make a pontoon boat for Their Lordships Sri Sri Radha-Shyamasundara’s pleasure and take Them (the utsav vighraha) around the pond with kirtan and loving sentiments.
URL:https://www.iskconpunjabibagh.com/event/krishna-phula-dola-salila-vihara-23rd-may-2024/
ATTACH;FMTTYPE=image/jpeg:https://www.iskconpunjabibagh.com/wp-content/uploads/2021/05/boat.jpg
END:VEVENT
BEGIN:VEVENT
DTSTART;VALUE=DATE:20240523
DTEND;VALUE=DATE:20240524
DTSTAMP:20260425T165243
CREATED:20240418T120839Z
LAST-MODIFIED:20240608T075338Z
UID:34796-1716422400-1716508799@www.iskconpunjabibagh.com
SUMMARY:Appearance Day of Sri Sri Radha-Ramana Devji 23rd May 2024
DESCRIPTION:The appearance of the Deity of Lord Krsna worshiped by Srila Gopala Bhatta Gosvami.
URL:https://www.iskconpunjabibagh.com/event/appearance-day-of-sri-sri-radha-ramana-devji-23rd-may-2024/
ATTACH;FMTTYPE=image/jpeg:https://www.iskconpunjabibagh.com/wp-content/uploads/2022/05/Sri-Sri-Radha-Ramana-Devji.jpg
END:VEVENT
BEGIN:VEVENT
DTSTART;VALUE=DATE:20240523
DTEND;VALUE=DATE:20240524
DTSTAMP:20260425T165243
CREATED:20240418T120945Z
LAST-MODIFIED:20240608T075345Z
UID:34801-1716422400-1716508799@www.iskconpunjabibagh.com
SUMMARY:Buddha Purnima – Appearance Day of Lord Buddha 23rd May 2024
DESCRIPTION:The festival of Buddha Purnima or Buddha Jayanti celebrates the birth of Gautam Buddha. Lord Buddha was born on the Full Moon day in the month of Vaisakh in 563 BC. Siddhartha Gautama or Gautam Budhha was a spiritual teacher and the founder of Buddhism.
URL:https://www.iskconpunjabibagh.com/event/buddha-purnima-appearance-day-of-lord-buddha-23rd-may-2024/
ATTACH;FMTTYPE=image/jpeg:https://www.iskconpunjabibagh.com/wp-content/uploads/2023/05/buddha.jpg
END:VEVENT
BEGIN:VEVENT
DTSTART;VALUE=DATE:20240523
DTEND;VALUE=DATE:20240524
DTSTAMP:20260425T165243
CREATED:20240418T122705Z
LAST-MODIFIED:20240608T075351Z
UID:34802-1716422400-1716508799@www.iskconpunjabibagh.com
SUMMARY:Appearance Day of Sri Madhavendra Puri 23rd May 2024
DESCRIPTION:Madhavendra Puri was the spiritual master of the spiritual master of Lord Caitanya Mahaprabhu. Srila Madhavendra Puri established the worship of the Gopala Deity\, who is today worshiped as Srinathaji.
URL:https://www.iskconpunjabibagh.com/event/appearance-day-of-sri-madhavendra-puri-23rd-may-2024/
ATTACH;FMTTYPE=image/jpeg:https://www.iskconpunjabibagh.com/wp-content/uploads/2021/03/Sri-Madhavendra-Puri.jpg
END:VEVENT
BEGIN:VEVENT
DTSTART;VALUE=DATE:20240523
DTEND;VALUE=DATE:20240524
DTSTAMP:20260425T165243
CREATED:20240418T122816Z
LAST-MODIFIED:20240608T075356Z
UID:34803-1716422400-1716508799@www.iskconpunjabibagh.com
SUMMARY:Appearance Day of Sri Srinivasa Acharya 23rd May 2024
DESCRIPTION:Srinivasa Acharya was a member of the party that 1st brought the books of the 6 Gosvamis from Vrndavana to Bengal & Orissa. He converted King Birahambira to the Vaisnava religion & helped organized the 1st Gaura Purnima festival.
URL:https://www.iskconpunjabibagh.com/event/appearance-day-of-sri-srinivasa-acharya-23rd-may-2024/
ATTACH;FMTTYPE=image/jpeg:https://www.iskconpunjabibagh.com/wp-content/uploads/2020/05/Sri-Srinivasa-Acharya.jpg
END:VEVENT
BEGIN:VEVENT
DTSTART;VALUE=DATE:20240523
DTEND;VALUE=DATE:20240524
DTSTAMP:20260425T165243
CREATED:20240418T125114Z
LAST-MODIFIED:20240608T075403Z
UID:34804-1716422400-1716508799@www.iskconpunjabibagh.com
SUMMARY:Disappearance Day of Sri Paramesvari Dasa Thakura 23rd May 2024
DESCRIPTION:Paramesvari Dasa Thakura \, also known as Paramesvara Thakura\, was an intimate associate of Lord Nityananda Prabhu.
URL:https://www.iskconpunjabibagh.com/event/disappearance-day-of-sri-paramesvari-dasa-thakura-23rd-may-2024/
ATTACH;FMTTYPE=image/jpeg:https://www.iskconpunjabibagh.com/wp-content/uploads/2022/05/Sri-Paramesvari-Dasa-Thakura.jpg
END:VEVENT
END:VCALENDAR