BEGIN:VCALENDAR
VERSION:2.0
PRODID:-//ISKCON Punjabi Bagh, - ECPv5.10.1//NONSGML v1.0//EN
CALSCALE:GREGORIAN
METHOD:PUBLISH
X-WR-CALNAME:ISKCON Punjabi Bagh,
X-ORIGINAL-URL:https://www.iskconpunjabibagh.com
X-WR-CALDESC:Events for ISKCON Punjabi Bagh,
BEGIN:VTIMEZONE
TZID:UTC
BEGIN:STANDARD
TZOFFSETFROM:+0000
TZOFFSETTO:+0000
TZNAME:UTC
DTSTART:20240101T000000
END:STANDARD
END:VTIMEZONE
BEGIN:VEVENT
DTSTART;VALUE=DATE:20240701
DTEND;VALUE=DATE:20240702
DTSTAMP:20260425T193954
CREATED:20240618T071816Z
LAST-MODIFIED:20240702T133837Z
UID:35689-1719792000-1719878399@www.iskconpunjabibagh.com
SUMMARY:Disappearance Day of Sri Srivasa Pandita 1st July
DESCRIPTION:Srivasa Pandita\, or Srivasa Thakura\, was a member of the Panca- tattva\, consisting of Lord Caitanya Mahaprabhu and His four immediate expansions and energies.
URL:https://www.iskconpunjabibagh.com/event/disappearance-day-of-sri-srivasa-pandita-1st-july/
ATTACH;FMTTYPE=image/jpeg:https://www.iskconpunjabibagh.com/wp-content/uploads/2020/03/Srivasa.jpg
END:VEVENT
END:VCALENDAR