BEGIN:VCALENDAR
VERSION:2.0
PRODID:-//ISKCON Punjabi Bagh, - ECPv5.10.1//NONSGML v1.0//EN
CALSCALE:GREGORIAN
METHOD:PUBLISH
X-WR-CALNAME:ISKCON Punjabi Bagh,
X-ORIGINAL-URL:https://www.iskconpunjabibagh.com
X-WR-CALDESC:Events for ISKCON Punjabi Bagh,
BEGIN:VTIMEZONE
TZID:UTC
BEGIN:STANDARD
TZOFFSETFROM:+0000
TZOFFSETTO:+0000
TZNAME:UTC
DTSTART:20240101T000000
END:STANDARD
END:VTIMEZONE
BEGIN:VEVENT
DTSTART;VALUE=DATE:20240722
DTEND;VALUE=DATE:20240723
DTSTAMP:20260425T194000
CREATED:20240702T133231Z
LAST-MODIFIED:20240803T135634Z
UID:36070-1721606400-1721692799@www.iskconpunjabibagh.com
SUMMARY:First Month of Caturmasya Begins 22nd July 2024
DESCRIPTION:First month: No leafy vegetables\, such as spinach\, salads of all types\, cabbages of all types\, kale\, leafy herbs like coriander\, mint\, parsley\, curry and powdered leafy herbs and teas. \nCaturmasya stands for ‘four months’. It is the period between sayana and uttana ekadasis. The scriptures refer to this period as the duration of Lord Visnu’s sleep in this universe. \nThe main goal of observing Caturmasya is to decrease attachment to material things and to increase devotion to Krishna. \nSrila Prabhupada writes in Caitanya Caritamrta\, “Caturmasya should be observed by all sections of the population. It does not matter whether one is a grihasta or a sanyasi. The observation is obligatory to all ashramas.” He further explains how to observe the vow:  “This is not very difficult. In the month of Sravana one should not eat spinach (green leafy vegetables of the nature)\, in the month of Bhadra one should not eat yogurt (yogurt used as binding agent for cake is allowed)\, and in the month of Asvina one should not drink milk (milk sweets\, milk by-products are fine). One should not eat fish or other non-vegetarian food during the month of Kartik. Masura dal and urad dal being high in protein is also considered non-vegetarian.” Thus during caturmasya one should practice to give up all food intended for sense enjoyment. However\, maha-prasad\, though containing restricted item can be honoured! \nIt is stated in Hari Bhakti Vilasa 15/113 that ‘after properly praying to the Supreme Lord near Him\, one should properly take a vow to follow the proper rules and regulations and process of caturmasya to increase one’s devotion to Lord Sri Krishna.’ \nSo please take this opportunity and engage yourself yourselves in the service of the Lord with much enthusiasm and make your life sublime.
URL:https://www.iskconpunjabibagh.com/event/first-month-of-caturmasya-begins-22nd-july-2024/
ATTACH;FMTTYPE=image/jpeg:https://www.iskconpunjabibagh.com/wp-content/uploads/2020/04/Caturmasya-Begins.jpg
END:VEVENT
END:VCALENDAR