BEGIN:VCALENDAR
VERSION:2.0
PRODID:-//ISKCON Punjabi Bagh, - ECPv5.10.1//NONSGML v1.0//EN
CALSCALE:GREGORIAN
METHOD:PUBLISH
X-WR-CALNAME:ISKCON Punjabi Bagh,
X-ORIGINAL-URL:https://www.iskconpunjabibagh.com
X-WR-CALDESC:Events for ISKCON Punjabi Bagh,
BEGIN:VTIMEZONE
TZID:UTC
BEGIN:STANDARD
TZOFFSETFROM:+0000
TZOFFSETTO:+0000
TZNAME:UTC
DTSTART:20260101T000000
END:STANDARD
END:VTIMEZONE
BEGIN:VEVENT
DTSTART;VALUE=DATE:20260107
DTEND;VALUE=DATE:20260108
DTSTAMP:20260419T232935
CREATED:20251218T130329Z
LAST-MODIFIED:20260110T064510Z
UID:47383-1767744000-1767830399@www.iskconpunjabibagh.com
SUMMARY:Srila Ramacadra Kaviraja Disappearance Day 7th Dec 2026
DESCRIPTION:Ramacandra Kaviraja\, the son of Sri Ciranjiva Sena appeared in Sri Khanda. “Ramacandara Kaviraja was especially earnest\, beautiful\, intelligent\, energetic\, and enthusiastic\,” said one biographer.
URL:https://www.iskconpunjabibagh.com/event/srila-ramacadra-kaviraja-disappearance-day-7th-dec-2026/
ATTACH;FMTTYPE=image/jpeg:https://www.iskconpunjabibagh.com/wp-content/uploads/2021/01/Sri-Ramchandra-Kaviraja.jpg
END:VEVENT
BEGIN:VEVENT
DTSTART;VALUE=DATE:20260107
DTEND;VALUE=DATE:20260108
DTSTAMP:20260419T232935
CREATED:20251222T082608Z
LAST-MODIFIED:20260110T064518Z
UID:47410-1767744000-1767830399@www.iskconpunjabibagh.com
SUMMARY:Srila Gopala Bhatta Goswami Appearance Day 7th Jan 2026
DESCRIPTION:Shri Gopala Bhatta Goswami (the son of a Vyenkata Bhatta\, a Shri Vaishnava brahmana) appeared in Shri Rangam\, South India. Lord Chaitanya once stayed four months in his home\, and converted the family to Gaudiya Vaishnavism.
URL:https://www.iskconpunjabibagh.com/event/srila-gopala-bhatta-goswami-appearance-day-7th-jan-2026/
ATTACH;FMTTYPE=image/jpeg:https://www.iskconpunjabibagh.com/wp-content/uploads/2020/05/Srila-Gopala-Bhatta-Goswami.jpg
END:VEVENT
END:VCALENDAR