BEGIN:VCALENDAR
VERSION:2.0
PRODID:-//ISKCON Punjabi Bagh, - ECPv5.10.1//NONSGML v1.0//EN
CALSCALE:GREGORIAN
METHOD:PUBLISH
X-WR-CALNAME:ISKCON Punjabi Bagh,
X-ORIGINAL-URL:https://www.iskconpunjabibagh.com
X-WR-CALDESC:Events for ISKCON Punjabi Bagh,
BEGIN:VTIMEZONE
TZID:UTC
BEGIN:STANDARD
TZOFFSETFROM:+0000
TZOFFSETTO:+0000
TZNAME:UTC
DTSTART:20260101T000000
END:STANDARD
END:VTIMEZONE
BEGIN:VEVENT
DTSTART;VALUE=DATE:20260109
DTEND;VALUE=DATE:20260110
DTSTAMP:20260419T233005
CREATED:20251222T083018Z
LAST-MODIFIED:20260110T064537Z
UID:47415-1767916800-1768003199@www.iskconpunjabibagh.com
SUMMARY:Srila Locana Das Thakur Disappearance Day 9th Jan 2026
DESCRIPTION:Sri Locana Dasa Thakura\, a disciple of Narahari Sarakara Thakura\, wrote many Bengali songs glorifying Lord Caitanya. His most famous poetic work is the Caitanya-mangala\, a depiction of Lord Caitanya’s life.
URL:https://www.iskconpunjabibagh.com/event/srila-locana-das-thakur-disappearance-day-9th-jan-2026/
ATTACH;FMTTYPE=image/jpeg:https://www.iskconpunjabibagh.com/wp-content/uploads/2020/12/Sri-Locana-Dasa-Thakura.jpg
END:VEVENT
END:VCALENDAR