BEGIN:VCALENDAR
VERSION:2.0
PRODID:-//ISKCON Punjabi Bagh, - ECPv5.10.1//NONSGML v1.0//EN
CALSCALE:GREGORIAN
METHOD:PUBLISH
X-WR-CALNAME:ISKCON Punjabi Bagh,
X-ORIGINAL-URL:https://www.iskconpunjabibagh.com
X-WR-CALDESC:Events for ISKCON Punjabi Bagh,
BEGIN:VTIMEZONE
TZID:UTC
BEGIN:STANDARD
TZOFFSETFROM:+0000
TZOFFSETTO:+0000
TZNAME:UTC
DTSTART:20260101T000000
END:STANDARD
END:VTIMEZONE
BEGIN:VEVENT
DTSTART;VALUE=DATE:20260127
DTEND;VALUE=DATE:20260128
DTSTAMP:20260419T214450
CREATED:20251229T133609Z
LAST-MODIFIED:20260128T065801Z
UID:47547-1769472000-1769558399@www.iskconpunjabibagh.com
SUMMARY:Sripada Madhvacarya Disappearance Day 27th Jan 2026
DESCRIPTION:Madhvacharya is the principal acharya\, or spiritual teacher\, in in the Brahma-sampradaya\, the Vaisnava disciplic line from which the Gaudiya sampradaya descends. He was born in Udupi\, South India\, in the early thirteenth century.
URL:https://www.iskconpunjabibagh.com/event/sripada-madhvacarya-disappearance-day-27th-jan-2026/
ATTACH;FMTTYPE=image/jpeg:https://www.iskconpunjabibagh.com/wp-content/uploads/2021/02/Madhvacharya.jpg
END:VEVENT
END:VCALENDAR