BEGIN:VCALENDAR
VERSION:2.0
PRODID:-//ISKCON Punjabi Bagh, - ECPv5.10.1//NONSGML v1.0//EN
CALSCALE:GREGORIAN
METHOD:PUBLISH
X-WR-CALNAME:ISKCON Punjabi Bagh,
X-ORIGINAL-URL:https://www.iskconpunjabibagh.com
X-WR-CALDESC:Events for ISKCON Punjabi Bagh,
BEGIN:VTIMEZONE
TZID:UTC
BEGIN:STANDARD
TZOFFSETFROM:+0000
TZOFFSETTO:+0000
TZNAME:UTC
DTSTART:20260101T000000
END:STANDARD
END:VTIMEZONE
BEGIN:VEVENT
DTSTART;VALUE=DATE:20260507
DTEND;VALUE=DATE:20260508
DTSTAMP:20260419T182400
CREATED:20260129T124151Z
LAST-MODIFIED:20260402T064119Z
UID:48044-1778112000-1778198399@www.iskconpunjabibagh.com
SUMMARY:Disappearance Day of Srila Ramananda Raya 7th May 2026
DESCRIPTION:Ramananda Raya was one of the most intimate associates of Lord Caitanya Mahaprabhu. The Gauraganoddesadipika (120-124) states that Ramananda Raya was Arjuna in his past incarnation.
URL:https://www.iskconpunjabibagh.com/event/disappearance-day-of-srila-ramananda-raya-7th-may-2026/
CATEGORIES:Upcoming event
ATTACH;FMTTYPE=image/jpeg:https://www.iskconpunjabibagh.com/wp-content/uploads/2022/05/Sri-Ramananda-Raya.jpg
END:VEVENT
END:VCALENDAR