BEGIN:VCALENDAR
VERSION:2.0
PRODID:-//ISKCON Punjabi Bagh, - ECPv5.10.1//NONSGML v1.0//EN
CALSCALE:GREGORIAN
METHOD:PUBLISH
X-WR-CALNAME:ISKCON Punjabi Bagh,
X-ORIGINAL-URL:https://www.iskconpunjabibagh.com
X-WR-CALDESC:Events for ISKCON Punjabi Bagh,
BEGIN:VTIMEZONE
TZID:UTC
BEGIN:STANDARD
TZOFFSETFROM:+0000
TZOFFSETTO:+0000
TZNAME:UTC
DTSTART:20230101T000000
END:STANDARD
END:VTIMEZONE
BEGIN:VEVENT
DTSTART;VALUE=DATE:20231010
DTEND;VALUE=DATE:20231011
DTSTAMP:20260421T130924
CREATED:20231009T133608Z
LAST-MODIFIED:20231012T080639Z
UID:31366-1696896000-1696982399@www.iskconpunjabibagh.com
SUMMARY:Indira Ekadasi 10th Oct 2023
DESCRIPTION:The delightful exultations of Indira Ekadasi are described in the Brahma-vaivarta Purana in the conversation between Sri Krsna and Maharaja Yudhisthira. Maharaja Yudhisthira enquired: “O Krsna! O Madhusudana! O Killer of the demon Madhu! What is the name of the Ekadasi that occurs during the waning moon in the month of Asvina (September/October)\, what is the process for following this sublime vrata (vow)\, and what merit is obtained by observing it?” \nLord Krsna replied\, “The name of this sacred and clement Ekadasi is Indira Ekadasi. By Observing this Ekadasi the sinful reactions of all one’s forbearers as well as one’s own sinful reactions are entirely eradicated. \n“O King! There was once a regal and prosperous king named Indrasena\, who lived in Satya-Yuga. He was very expert in subduing his enemies and ruled his kingdom with great compassion. Surrounded by his children and grandchildren\, he lived happily in his city of Mahismatipuri. He was always attached to the devotional service of Lord Visnu. Being a devotee constantly absorbed in cultivating and distributing spiritual knowledge\, the king spent his time chanting the holy names of Sri Govinda\, the bestower of liberation. \n“One day as the King was happily sitting on his royal throne\, Sri Narada Muni suddenly appeared before him from the sky. Upon seeing the sage Narada\, King Indrasena rose up with folded palms and offered his respectful obeisances unto him. The King then duly worshipped Narada Muni with sixteen ingredients. Once the sage was happily seated\, he asked Indrasena\, “O great King is everyone happy and prosperous in your kingdom? Is your mind fixed in religious principles\, and are you engaged in devotional service to Visnu?” \n“The King replied\, O best of sages! Everything is well and auspicious by your kind mercy. Today my life has become successful by your darsana and my performance of sacrifices has born fruit. O sage among the demigods! Please tell me the cause of your blessed visit.” \n“After hearing these humble words of the King\, Narada Muni said: ‘O lion-like King! Now hear about a wonderfully fortunate incident that took place\, prior to my arrival. O best of Kings! Once I went to the abode of Yamaraja from the abode of Lord Brahma\, Yamaraja greeted me respectfully and worshipped me with great pomp and fervour. After being comfortably seated\, I offered prayers to the pious and truthful Yamaraja. Then I saw your greatly pious father in the assembly of Yamaraja. As a result of breaking a vow\, your father had to go there. O King! He gave me a message and requested me to convey it unto you. He said\, ‘Indrasena\, the king of Mahismatipuri\, is my son. O Lord\, please tell him that due to some sinful activities committed in my previous life I am now living in the abode of the Lord of death! Yamaraja! Therefore\, in order to free me from my fate\, he should observe the vow of Ekadasi known as Indira Ekadasi\, and give away it’s piety to me. Then I will be released from my present condition of life.’ Narada Muni continued\, ‘O King This is your father’s request\, in order to deliver your father to the spiritual world\, you should observe the vow of Indira Ekadasi.’ \n“King Indrasena said: ‘O sage amongst the demigods\, kindly explain to me the procedure for following this Indira Ekadasi.’ Narada Muni replied: “On the day before Ekadasi one should take bath early in the morning and with faith and enthusiasm offer oblations to the forfathers\, for their satisfaction. On that day one should eat only once and sleep on the floor at night. On the day of Ekadasi one should rise early in the morning\, brush his teeth\, wash his hands and mouth and take bath. Thereafter he should take a vow to not indulge in any material enjoyment and thus observe a total fast. He should also pray to the Lord\, saying ‘O lotus-eyed one\, I take shelter of you.’ \n“Thereafter he should feed the brahmanas with sumptuous prasadam and give them daksina. At the end one should give the prasadi remnants to the cows. During the day one should worship Lord Hrsikesa by offering sandalwood paste\, flowers\, incense\, lamp and foodstuffs with devotion. One should remain awake throughout the night while chanting\, hearing and remembering the names\, forms\, qualities and pastimes of the Supreme Personality of Godhead. One should then breakfast at the appropriate time by eating along with his brothers\, children\, grandchildren and relatives while maintaining silence. O King! If you follow this Ekadasi as I have just described\, then your father will certainly attain the abode of Visnu.’ After speaking in this way\, Narada Muni\, took his leave and departed. \n“As per the instructions of Narada Muni\, King Indrasena strictly observed this Ekadasi accompanied by his children\, servants and others. As a result of observing this Ekadasi\, flowers showered from the sky and the father of King Indrasena immediately rode on the back of Garuda to abode of Lord Visnu. Then the saintly King Indrasena ruled his kingdom without any impediment\, and at the end of his life he entrusted the kingdom to his son and personally returned to the spiritual world. Such are the unsurmountable glories of Indira Ekadasi. Anyone who reads of hears the narration for this Ekadasi becomes free from all sinful reactions and ultimately returns to the abode of Visnu.”
URL:https://www.iskconpunjabibagh.com/event/indira-ekadasi-10th-oct-2023/
ATTACH;FMTTYPE=image/jpeg:https://www.iskconpunjabibagh.com/wp-content/uploads/2020/05/Ekadashi.jpg
END:VEVENT
BEGIN:VEVENT
DTSTART;VALUE=DATE:20231021
DTEND;VALUE=DATE:20231022
DTSTAMP:20260421T130924
CREATED:20231009T133836Z
LAST-MODIFIED:20231027T054635Z
UID:31367-1697846400-1697932799@www.iskconpunjabibagh.com
SUMMARY:Durga Puja 24th October 2023
DESCRIPTION:Durga Puja is one of the significant Hindu festivals\, celebrated with much joy in the entire country. \nThe occasion marks the occassion of Lord Rama and brother Lakshman approaching Mother Durga to ask her for her blessings in His planned attack on the demon Ravana. It is therefore considered that the Supreme Personality of Godhead’s approaching her for blessings to remove material impediments to His spiritual goals should be the approach of the humble devotee of the Lord to clinche the important triumph of Lord Rama over the demon king\, Ravana\, the victory of good over evil.
URL:https://www.iskconpunjabibagh.com/event/durga-puja-24th-october-2023/
ATTACH;FMTTYPE=image/jpeg:https://www.iskconpunjabibagh.com/wp-content/uploads/2021/09/Durga-Puja.jpg
END:VEVENT
BEGIN:VEVENT
DTSTART;VALUE=DATE:20231024
DTEND;VALUE=DATE:20231025
DTSTAMP:20260421T130924
CREATED:20231009T133940Z
LAST-MODIFIED:20231027T054641Z
UID:31368-1698105600-1698191999@www.iskconpunjabibagh.com
SUMMARY:Ramacandra Vijayotsava 24th Oct 2023
DESCRIPTION:Lord Ramacandra’s victory over the demon Ravana. A large effigy of Ravana is ceremoniously burned.
URL:https://www.iskconpunjabibagh.com/event/ramacandra-vijayotsava-24th-oct-2023/
ATTACH;FMTTYPE=image/jpeg:https://www.iskconpunjabibagh.com/wp-content/uploads/2022/04/ramm.jpg
END:VEVENT
BEGIN:VEVENT
DTSTART;VALUE=DATE:20231024
DTEND;VALUE=DATE:20231025
DTSTAMP:20260421T130924
CREATED:20231009T134043Z
LAST-MODIFIED:20231026T060035Z
UID:31369-1698105600-1698191999@www.iskconpunjabibagh.com
SUMMARY:Appearance Day of Sri Madhvacharya 24th Oct 2023
DESCRIPTION:Madhvacharya is the principal acharya\, or spiritual teacher\, in in the Brahma-sampradaya\, the Vaisnava disciplic line from which the Gaudiya sampradaya descends. \nHe was born in Udupi\, South India\, in the early thirteenth century. At the age of five he took initiation and at the age of twelve left home to take sannyasa. Madhvacharya studied the Vedas under the compiler of the Vedas\, Vyasadeva\, in the Himalayas. Madhvacharya’s Vedanta- sutra commentary Purnaprajna-bhasya establishes the doctrine known as Suddha-dvaita-vada. Madhva used his erudite scholarship to crush the Mayavada (impersonalistic) philosophy and establish devotional service to the Supreme Personality of Godhead. (See Sri Caitanya-caritamrta\, Madhya-lila 9.245.)
URL:https://www.iskconpunjabibagh.com/event/appearance-day-of-sri-madhvacharya-24th-oct-2023/
ATTACH;FMTTYPE=image/jpeg:https://www.iskconpunjabibagh.com/wp-content/uploads/2021/09/Madhvacharya.jpg
END:VEVENT
BEGIN:VEVENT
DTSTART;VALUE=DATE:20231025
DTEND;VALUE=DATE:20231026
DTSTAMP:20260421T130924
CREATED:20231009T134308Z
LAST-MODIFIED:20231026T060045Z
UID:31370-1698192000-1698278399@www.iskconpunjabibagh.com
SUMMARY:Pasankusa Ekadashi 25th Oct 2023
DESCRIPTION:Yudhishthira Maharaj said\, Oh Madhusudana\, what is the name of the Ekadashi that comes during the light fortnight of the month of Ashvina (September October)? Please be merciful and disclose this truth to me.”\nThe Supreme Personality of Godhead Sri Krishna replied\, “Oh king\, please listen as I explain the glories of this Ekadashi Pasankusa Ekadashi which removes all sins. On this day one should worship the Deity of Padmanabha\, the lotus naveled \nLord Vishnu\, according to the rules of archana viddhi (regulations). By so doing\, one achieves whatever heavenly pleasures one may want in this world\, and at last attains liberation from this world thereafter. Simply by offering one’s humbly obeisances unto Lord Vishnu\, the rider of Garuda\, one can achieve the same merit as is gained by performing great penances for a long time restraining and controlling the senses. Although a person might have committed unlimited and abominable sins\, he can still escape hellish punishment just by paying his obeisances to Lord Sri Hari\, the taker away of all sin.” \n“The merits gained by going on pilgrimage to the Holy Tirthas of this earthly planet can also be achieved simply by chanting the Holy names of Lord Vishnu. Whosoever chants these sacred names such as Rama\, Vishnu\, Janardana or Krishna especially on Ekadashi\, never sees Yamaraj\, the king of death’s punishing abode. Nor does such a devotee who fasts on Pasankusa Ekadashi\, which is very dear to Me\, see that plutonic abode.” \n“Both the Vaishnava who criticises Lord Shiva and the Shaivite (Saivite) who criticises Me certainly go to hell. The merit obtained by performing one hundred horse sacrifices and one hundred Rajasurya sacrifices is not even equal to one sixteenth of the merit a devotee is able to attain by fasting on Ekadashi. There is no higher merit one can achieve than that attained by fasting on Ekadashi. Indeed\, nothing in all the three worlds is as pleasing or as able to purify one of accumulated sin as Ekadashi\, the day of the lotus-naveled Lord\, Padmanabha. \n“O king\, until a person observes a fast on the day of Lord Padmanabha named Pasankusa Ekadashi\, he remains sinful\, and the reactions of his past sinful activities never leave him like a chaste wife. There is no merit in all the three worlds that can match the merit that one gains by observing a fast on this Ekadashi. Whosoever observes it faithfully never has to see death personified\, Lord Yamaraj. One who desires liberation\, elevation to the heavens\, good health\, beautiful women\, wealth\, and food grains should simply fast on this Pasankusa Ekadashi. O king\, neither the Ganges\, Gaya\, Kashi\, nor Pushkara\, nor even the Holy site of Kurukshetra\, can grant as much auspicious merit as this Pasankusa Ekadashi. \n“O Maharaj Yudhishthira\, protector of the earth\, after observing ekadasi during the daytime\, the devotee should remain awake through the night\, absorbed in hearing\, chanting and serving the lord for by so doing he easily attains to the Supreme abode of Lord Vishnu. Not only that\, but ten generations of ancestors on his mother’s side\, ten generations on his father’s side\, and ten generations on his wife’s side are all liberated by a single observance of a fast on this Ekadashi. All these ancestors attain their original\, four armed transcendental Vaikuntha forms. Wearing yellow garments and beautiful garlands\, they ride to the spiritual realm on the back of Garuda\, the renown great enemy of the snakes. This is the benediction My devotee earns simply by observing one Pasankusa Ekadashi properly. \n“O best of kings\, whether one is a child\, a youth\, or in old age\, fasting on Pasankusa Ekadashi frees him from all sins and makes him immune to suffering a hellish rebirth. Whosoever observes a fast on the Pasankusa Ekadashi becomes free of all his sins and returns to the spiritual abode of Lord Sri Hari. Whosoever donates gold\, sesame seeds\, fertile land\, cows\, grain\, drinking water\, an umbrella\, or a pair of shoes on this most auspicious of Holy days will never have to visit the abode of Yamaraj\, who always punishes the sinners. But if a resident of earth fails to perform spiritual deeds\, especially the observance of a fast on days such as Ekadashi\, his breathing is said to be no better\, or of as much use as the breathing/puffing of a blacksmith’s bellows. \n“O best of the kings\, especially on this Pasankusa Ekadashi\, even the poor should first bathe and then give some charity according to their means\, and perform other auspicious activities in accordance with their ability. \n“Whosoever performs sacrifices and benefits the people\, or builds public ponds\, resting places\, gardens\, or houses does not suffer the punishments of Yamaraj. Indeed\, one should understand that a person much have performed such pious activities as these in the past life if he is long lived\, wealthy\, of high birth\, or free from all diseases. But a person who observes Pasankusa Ekadashi goes to the abode of the Supreme Personality of Godhead\, Vishnu.) \nLord Sri Krishna then concluded\, “Thus\, Oh saintly Yudhishthira\, I have narrated to you the glories of the auspicious Pasankusa Ekadashi.” \nThus ends the narration of the glories of the Pasankusa Ekadashi\, or Ashwina-shukla Ekadashi\, from the Brahma-vaivarta Purana.
URL:https://www.iskconpunjabibagh.com/event/pasankusa-ekadashi-25th-oct-2023/
ATTACH;FMTTYPE=image/jpeg:https://www.iskconpunjabibagh.com/wp-content/uploads/2020/05/Ekadashi.jpg
END:VEVENT
BEGIN:VEVENT
DTSTART;VALUE=DATE:20231026
DTEND;VALUE=DATE:20231027
DTSTAMP:20260421T130924
CREATED:20231010T115807Z
LAST-MODIFIED:20231027T054506Z
UID:31378-1698278400-1698364799@www.iskconpunjabibagh.com
SUMMARY:Disappearance Day of Srila Raghunatha Dasa Goswami 26th Oct 2023
DESCRIPTION:Raghunatha Dasa Gosvami \, one of the six Goswamis\, at a young age renounced his beautiful wife and opulent home to join Lord Caitanya and His sankirtana movement.
URL:https://www.iskconpunjabibagh.com/event/disappearance-day-of-srila-raghunatha-dasa-goswami-26th-oct-2023/
ATTACH;FMTTYPE=image/jpeg:https://www.iskconpunjabibagh.com/wp-content/uploads/2020/05/Raghunath.jpg
END:VEVENT
BEGIN:VEVENT
DTSTART;VALUE=DATE:20231026
DTEND;VALUE=DATE:20231027
DTSTAMP:20260421T130924
CREATED:20231026T115953Z
LAST-MODIFIED:20231027T054512Z
UID:31380-1698278400-1698364799@www.iskconpunjabibagh.com
SUMMARY:Disappearance Day of Srila Raghunatha Bhatta Goswami 26th Oct 2023
DESCRIPTION:Raghunatha Bhatta Goswami\, one of the six Goswamis of Vrndavana\, was ordered by Lord Caitanya to go to Vrndavana and there constantly chant the Hare Krsna mantra.
URL:https://www.iskconpunjabibagh.com/event/disappearance-day-of-srila-raghunatha-bhatta-goswami-26th-oct-2023/
ATTACH;FMTTYPE=image/jpeg:https://www.iskconpunjabibagh.com/wp-content/uploads/2020/05/Srila-Raghunatha-Bhatta-Goswami1.jpg
END:VEVENT
BEGIN:VEVENT
DTSTART;VALUE=DATE:20231026
DTEND;VALUE=DATE:20231027
DTSTAMP:20260421T130924
CREATED:20231026T122907Z
LAST-MODIFIED:20231027T054518Z
UID:31382-1698278400-1698364799@www.iskconpunjabibagh.com
SUMMARY:Disappearance Day of Srila Krsnadasa Kaviraja Goswami 26th Oct 2023
DESCRIPTION:Appearing near Katva\, Krishna Dasa Kaviraja left for Vrindavana after Lord Nityananda told him in a dream: are are krishnadasa\, na karaha bhaya\, Vrindavana yaha tanha\, sarva larya haya\, “0 my dear Krishnadasa\, do not be afraid.
URL:https://www.iskconpunjabibagh.com/event/disappearance-day-of-srila-krsnadasa-kaviraja-goswami-26th-oct-2023/
ATTACH;FMTTYPE=image/jpeg:https://www.iskconpunjabibagh.com/wp-content/uploads/2020/05/Kaviraja.jpg
END:VEVENT
BEGIN:VEVENT
DTSTART;VALUE=DATE:20231028
DTEND;VALUE=DATE:20231029
DTSTAMP:20260421T130924
CREATED:20231016T105856Z
LAST-MODIFIED:20231030T131104Z
UID:31604-1698451200-1698537599@www.iskconpunjabibagh.com
SUMMARY:Disappearance Day of Sri Murari Gupta 28th October 2023
DESCRIPTION:Murari Gupta was a lifelong associate of Lord Caitanya. He served Lord Caitanya in all of the Lord’s Navadvipa pastimes. \nBy profession a doctor\, Murari Gupta freed his patients not only from their physical ailments but also from the contamination of the material energy. Murari Gupta is considered an incarnation of Hanuman\, the eternal servant of Lord Ramacandra.
URL:https://www.iskconpunjabibagh.com/event/disappearance-day-of-sri-murari-gupta-28th-october-2023/
ATTACH;FMTTYPE=image/jpeg:https://www.iskconpunjabibagh.com/wp-content/uploads/2022/10/Murari.jpg
END:VEVENT
BEGIN:VEVENT
DTSTART;VALUE=DATE:20231028
DTEND;VALUE=DATE:20231029
DTSTAMP:20260421T130924
CREATED:20231016T114846Z
LAST-MODIFIED:20231030T131112Z
UID:31609-1698451200-1698537599@www.iskconpunjabibagh.com
SUMMARY:Laksmi Puja 28th Oct 2023
DESCRIPTION:Laksmi Puja means worship of Laksmi Devi\, the consort of Lord Visnu  Goddess Laxmi is said to have emerged from the ocean of milk at Diwali. On that day\, Laxmi puja was performed to honour Her and as such\, every year at Diwali\, She is worshipped and offered prayers (not observed by Gaudiya Vaisnavas).
URL:https://www.iskconpunjabibagh.com/event/laksmi-puja-28th-oct-2023/
ATTACH;FMTTYPE=image/jpeg:https://www.iskconpunjabibagh.com/wp-content/uploads/2021/10/Lakxmi-Pooja.jpg
END:VEVENT
BEGIN:VEVENT
DTSTART;VALUE=DATE:20231028
DTEND;VALUE=DATE:20231029
DTSTAMP:20260421T130924
CREATED:20231027T105730Z
LAST-MODIFIED:20231030T131225Z
UID:31602-1698451200-1698537599@www.iskconpunjabibagh.com
SUMMARY:Sri Krsna Saradiya Rasayatra 28th Oct 2023
DESCRIPTION:Lord Krsna’s autumn rasa dance with His girlfriends.
URL:https://www.iskconpunjabibagh.com/event/sri-krsna-saradiya-rasayatra-28th-oct-2023/
ATTACH;FMTTYPE=image/jpeg:https://www.iskconpunjabibagh.com/wp-content/uploads/2020/05/rasayatra.jpg
END:VEVENT
BEGIN:VEVENT
DTSTART;VALUE=DATE:20231028
DTEND;VALUE=DATE:20231029
DTSTAMP:20260421T130924
CREATED:20231027T110345Z
LAST-MODIFIED:20231030T131151Z
UID:31606-1698451200-1698537599@www.iskconpunjabibagh.com
SUMMARY:Fourth Month of Caturmasya Begins 28th October 2023
DESCRIPTION:Fourth month: No Ural Dal. \nCaturmasya stands for ‘four months’. It is the period between sayana and uttana ekadasis. The scriptures refer to this period as the duration of Lord Visnu’s sleep in this universe. \nThe main goal of observing Caturmasya is to decrease attachment to material things and to increase devotion to Krishna.\nSrila Prabhupada writes in Caitanya Caritamrta\, “Caturmasya should be observed by all sections of the population. It does not matter whether one is a grihasta or a sanyasi. The observation is obligatory to all ashramas.” He further explains how to observe the vow:  “This is not very difficult. In the month of Sravana one should not eat spinach (green leafy vegetables of the nature)\, in the month of Bhadra one should not eat yogurt (yogurt used as binding agent for cake is allowed)\, and in the month of Asvina one should not drink milk (milk sweets\, milk by-products are fine). One should not eat fish or other non-vegetarian food during the month of Kartik. Masura dal and urad dal being high in protein is also considered non-vegetarian.” Thus during caturmasya one should practice to give up all food intended for sense enjoyment. However\, maha-prasad\, though containing restricted item can be honoured!\nIt is stated in Hari Bhakti Vilasa 15/113 that ‘after properly praying to the Supreme Lord near Him\, one should properly take a vow to follow the proper rules and regulations and process of caturmasya to increase one’s devotion to Lord Sri Krishna.’\nSo please take this opportunity and engage yourself yourselves in the service of the Lord with much enthusiasm and make your life sublime.
URL:https://www.iskconpunjabibagh.com/event/fourth-month-of-caturmasya-begins-28th-october-2023/
ATTACH;FMTTYPE=image/jpeg:https://www.iskconpunjabibagh.com/wp-content/uploads/2023/10/four-Month.jpg
END:VEVENT
END:VCALENDAR